BEGIN:VCALENDAR
VERSION:2.0
PRODID:spatie/icalendar-generator
NAME:Botanicus - Svět Rostlin
X-WR-CALNAME:Botanicus - Svět Rostlin
SOURCE;VALUE=URI:https://botanicus.cz/en
BEGIN:VTIMEZONE
TZID:Europe/Prague
BEGIN:STANDARD
DTSTART:20251026T030000
TZOFFSETFROM:+0200
TZOFFSETTO:+0100
END:STANDARD
BEGIN:DAYLIGHT
DTSTART:20260329T010000
TZOFFSETFROM:+0100
TZOFFSETTO:+0200
END:DAYLIGHT
BEGIN:STANDARD
DTSTART:20261025T030000
TZOFFSETFROM:+0200
TZOFFSETTO:+0100
END:STANDARD
BEGIN:DAYLIGHT
DTSTART:20270328T010000
TZOFFSETFROM:+0100
TZOFFSETTO:+0200
END:DAYLIGHT
END:VTIMEZONE
BEGIN:VTIMEZONE
TZID:UTC
BEGIN:STANDARD
DTSTART:20240928T143526
TZOFFSETFROM:+0000
TZOFFSETTO:+0000
END:STANDARD
END:VTIMEZONE
BEGIN:VEVENT
UID:47887-1774961275-1776241287@botanicus.cz
DTSTAMP:20260331T124755Z
SUMMARY:Japanese day I Theatre ''Studio Dell'arte ''
DESCRIPTION:Studio Dell’arte is a theatre ensemble that can captivate a w
 ide audience. They perform fairy tales for the youngest children as well a
 s street theatre for adult audiences. This time\, they have prepared two c
 lassic stories for you: Goldilocks and Long\, Broad and Sharpsight.\nBeggi
 ning of the performance: 11:00 a.m. and 2:00 p.m.\nIn addition to the prog
 ram mentioned above\, you can look forward to an all‑day program dedicat
 ed to our new exhibition on Japan\, taking place on the lawn grounds in ou
 r gardens.\nYou can enjoy activities such as face painting\, origami\, Miy
 uki bead crafting\, Japanese tea tasting\, and much more.\nProgramme subje
 ct to change. \n    
IMAGE;VALUE=URI:
DTSTART;TZID=Europe/Prague:20260501T000000
DTEND;TZID=Europe/Prague:20260501T000000
LAST-MODIFIED;TZID=Europe/Prague;VALUE=DATE:20260415
END:VEVENT
BEGIN:VEVENT
UID:47893-1775040397-1776241540@botanicus.cz
DTSTAMP:20260401T104637Z
SUMMARY:Theatre ''Koňmo''
DESCRIPTION:On the first Saturday in May\, you can look forward to a perfor
 mance by Divadlo Koňmo featuring the fairy tale The Old Wolf’s Tale.\nB
 eggining of the perfomance: 11 a.m. and 2 p.m.\nProgramme subject to chang
 e. \n   
IMAGE;VALUE=URI:
DTSTART;TZID=Europe/Prague:20260502T000000
DTEND;TZID=Europe/Prague:20260502T000000
LAST-MODIFIED;TZID=Europe/Prague;VALUE=DATE:20260415
END:VEVENT
BEGIN:VEVENT
UID:47894-1775040581-1776241583@botanicus.cz
DTSTAMP:20260401T104941Z
SUMMARY:Theatre ''Divadlo nejen pro děti''
DESCRIPTION:Czech Legends\, or Fairy Tales Beneath Mount Říp is a captiva
 ting and unforgettable performance in which the stories of Forefather Čec
 h\, Princess Libuše\, the mighty Bivoj\, and even the dramatic tale of Ct
 irad and Šárka come to life on stage. Engaging songs that humorously hig
 hlight each scene invite children to sing along with the actors.\nBegginin
 g of the performance: 11:00 a.m. and 2:00 p.m.\nProgramme subject to chang
 e. \n   
IMAGE;VALUE=URI:
DTSTART;TZID=Europe/Prague:20260508T000000
DTEND;TZID=Europe/Prague:20260508T000000
LAST-MODIFIED;TZID=Europe/Prague;VALUE=DATE:20260415
END:VEVENT
BEGIN:VEVENT
UID:47895-1775040644-1776241829@botanicus.cz
DTSTAMP:20260401T105044Z
SUMMARY:Honey festival I Theatre ''Anima Candida''
DESCRIPTION:With Saturday’s performance How Jeníček and Mařenka (Hanse
 l and Grethel) Visit Fairy Tales\, you’ll set off on an adventurous jour
 ney with Teapot and Sugar Bowl\, visit a circus with an aunt‑clown and u
 ncle‑clown\, and in the third story the king and queen will host a witch
 \, a wolf\, a three‑headed dragon\, and even Otesánek (the Ever-Hungry 
 Little One).\nBeggining of the performance: 11:00 a.m. and 1:00 p.m.\nIn a
 ddition to the program mentioned above\, you can also look forward to hone
 y extraction and sales on the bridge leading to the Monastery Garden. Trad
 itional crafts will be complemented by beeswax candle making and a themed 
 activity sheet for children about The Little Bee\, guiding them through th
 e Craft Center and the garden. You will also have the chance to taste vari
 ous honey‑inspired treats and delicacies.\nProgramme subject to change.
  \n   
IMAGE;VALUE=URI:
DTSTART;TZID=Europe/Prague:20260509T000000
DTEND;TZID=Europe/Prague:20260509T000000
LAST-MODIFIED;TZID=Europe/Prague;VALUE=DATE:20260415
END:VEVENT
BEGIN:VEVENT
UID:47896-1775040726-1776241915@botanicus.cz
DTSTAMP:20260401T105206Z
SUMMARY:Theatre ''Kampa''
DESCRIPTION:The fairy‑tale musical My Name Is Eagle comes from a small So
 uth Bohemian farmyard. It tells the story of a hen who wasn’t afraid to 
 spread her wings and show the flight of an eagle\, even though she had nev
 er seen one in her life.\nBeggining of the performance: 2:00 p.m.\nProgram
 me subject to change. \n  
IMAGE;VALUE=URI:
DTSTART;TZID=Europe/Prague:20260516T000000
DTEND;TZID=Europe/Prague:20260516T000000
LAST-MODIFIED;TZID=Europe/Prague;VALUE=DATE:20260415
END:VEVENT
BEGIN:VEVENT
UID:47897-1775040820-1776241970@botanicus.cz
DTSTAMP:20260401T105340Z
SUMMARY:Falconer's show
DESCRIPTION:Students from the Maximilián Hell Primary School in Štiavnick
 é Bane will present demonstrations of birds of prey in flight\, along wit
 h an introduction to each species. You can see it all on the lawn area in 
 our gardens\, where a full‑day display of birds of prey will be prepared
  for you.\nFlight demonstrations: 11:00 a.m. and 3:00 p.m.\nProgramme subj
 ect to change. \n  
IMAGE;VALUE=URI:
DTSTART;TZID=Europe/Prague:20260523T000000
DTEND;TZID=Europe/Prague:20260523T000000
LAST-MODIFIED;TZID=Europe/Prague;VALUE=DATE:20260415
END:VEVENT
BEGIN:VEVENT
UID:47898-1775040979-1776242047@botanicus.cz
DTSTAMP:20260401T105619Z
SUMMARY:Theatre ''Já to jsem''
DESCRIPTION:Three classic folk tales\, the Gingerbread House\, the Giant Tu
 rnip\, and the Cock and the Hen\, are seamlessly woven together and tradit
 ionally performed by the theatre group “Já to jsem” (It Is Me Theatre
  Group). They will take you into a world of puppets bringing their stories
  to life on their magical carousel.\nBeggining of the performance: 11:00 a
 .m. and 2:00 p.m.\nProgramme subject to change. \n   
IMAGE;VALUE=URI:
DTSTART;TZID=Europe/Prague:20260530T000000
DTEND;TZID=Europe/Prague:20260530T000000
LAST-MODIFIED;TZID=Europe/Prague;VALUE=DATE:20260415
END:VEVENT
BEGIN:VEVENT
UID:47899-1775041126-1776243160@botanicus.cz
DTSTAMP:20260401T105846Z
SUMMARY:Jugglers ''Komedianti na káře''
DESCRIPTION:The troupe Komedianti na káře (the Cart-Riding Comedians) has
  once again prepared a juggler’s theatre performance\, a juggling worksh
 op accompanied by a barrel organ on the garden’s grassy grounds\, and\, 
 to round it all off\, another theatrical show.\nBeggining of the performan
 ce: 11:00 a.m. and 3:00 p.m.\nJuggling performance and workshop in the gar
 dens: 1:00 p.m. \nProgramme subject to change. \n    
IMAGE;VALUE=URI:
DTSTART;TZID=Europe/Prague:20260606T000000
DTEND;TZID=Europe/Prague:20260606T000000
LAST-MODIFIED;TZID=Europe/Prague;VALUE=DATE:20260415
END:VEVENT
BEGIN:VEVENT
UID:46114-1750862126-1776251381@botanicus.cz
DTSTAMP:20250625T143526Z
SUMMARY:Strawberry Saturday I Juggler Vojta Vrtek with workshop
DESCRIPTION:This Saturday\, you can look forward to a visit from your favou
 rite performer\, the comedian and juggler Vojta Vrtek. He will not only en
 tertain you with his show\, but also share a glimpse of his juggling skill
 s. Enjoy his performance in our theatre and don’t miss the juggling work
 shop in the gardens.\nThe juggling workshop will be open for you all day o
 n the grassy grounds of our gardens. \nBeggining of the performance: 11:0
 0 a.m. and 3:00 p.m.\nAnd to make the day even sweeter\, Saturday will be 
 all about strawberries. Throughout the day\, you’ll be able to taste a v
 ariety of strawberry-inspired treats and even create your own strawberry
 ‑scented soap.\nProgramme subject to change.\n     
IMAGE;VALUE=URI:
DTSTART;TZID=Europe/Prague:20260613T000000
DTEND;TZID=Europe/Prague:20260613T235900
LAST-MODIFIED;TZID=Europe/Prague;VALUE=DATE:20260415
END:VEVENT
BEGIN:VEVENT
UID:47901-1775041802-1776251450@botanicus.cz
DTSTAMP:20260401T111002Z
SUMMARY:Theatre ''Téatr Wilsoon''
DESCRIPTION:This Saturday\, enjoy the street‑juggling comedy Between Heav
 en and Cobblestones\, a story about what can happen when Fernandó Fantast
 ico arrives with his trademark confidence and decides to present a Czech p
 remiere. Expect a lively mix of juggling tricks\, clowning\, unexpected tw
 ists\, and the natural brotherly chemistry of the performers. A Czech‑En
 glish show for audiences of all ages\, featuring a unicycle\, knives\, and
  a generous dose of laughter.\nBeggining of the performance: 11:00 a.m. an
 d 2:00 p.m.\nProgramme subject to change. \n 
IMAGE;VALUE=URI:
DTSTART;TZID=Europe/Prague:20260620T000000
DTEND;TZID=Europe/Prague:20260620T000000
LAST-MODIFIED;TZID=Europe/Prague;VALUE=DATE:20260415
END:VEVENT
BEGIN:VEVENT
UID:47902-1775042084-1776251516@botanicus.cz
DTSTAMP:20260401T111444Z
SUMMARY:Theatre ''Divadlo NAVĚTVI'' I Garden grill gathering
DESCRIPTION:.\nCome and discover with us what human qualities the animals r
 eveal in their stories. In the performance Mr. Aesop’s Menagerie\, full 
 of songs\, humour\, and surprises\, you’ll see that even the smallest cr
 eatures can carry great truths. Aesop’s fables have been teaching childr
 en and adults alike to understand themselves and the world around them for
  centuries.\nBeggining of the performance: 2:00 p.m.\nThroughout the day\,
  you can enjoy a selection of freshly grilled dishes served in the gardens
 .\nProgramme subject to change. \n  
IMAGE;VALUE=URI:
DTSTART;TZID=Europe/Prague:20260627T000000
DTEND;TZID=Europe/Prague:20260627T000000
LAST-MODIFIED;TZID=Europe/Prague;VALUE=DATE:20260415
END:VEVENT
BEGIN:VEVENT
UID:47903-1775042332-1776251576@botanicus.cz
DTSTAMP:20260401T111852Z
SUMMARY:Matěj Kodeš bubble show | How to grow lavender
DESCRIPTION:On the first Saturday of the summer holidays\, enjoy Matěj Kod
 eš’s Bubble Show on the grassy grounds of our garden. Later in the thea
 tre\, you can attend a lecture on lavender by Ing. Čestmír Vorlíček. 
  \nBubble show in the garden: 11:00 a.m. and 3:00 p.m.\nHow to grow leven
 der by Ing. Čestmír Vorlíček in the theatre: 1:00 p.m.\nProgramme subj
 ect to change. \n  
IMAGE;VALUE=URI:
DTSTART;TZID=Europe/Prague:20260704T000000
DTEND;TZID=Europe/Prague:20260704T000000
LAST-MODIFIED;TZID=Europe/Prague;VALUE=DATE:20260415
END:VEVENT
BEGIN:VEVENT
UID:47904-1775048029-1776251671@botanicus.cz
DTSTAMP:20260401T125349Z
SUMMARY:Theatre ''Anima Candida''
DESCRIPTION:A story about the young knight Jurášek. Prince Jurášek drea
 ms of becoming a brave and courageous hero. Following the advice of his fa
 ther\, the king\, he sets out into the world to accomplish a courageous de
 ed. But even in a fairy tale\, such a task is far from being simple\, espe
 cially when he decides to rescue a princess held captive by a fearsome dra
 gon.\nBeggining of the performance: 11:00 a.m. and 2:00 p.m.\nProgramme su
 bject to change. \n   
IMAGE;VALUE=URI:
DTSTART;TZID=Europe/Prague:20260705T000000
DTEND;TZID=Europe/Prague:20260705T000000
LAST-MODIFIED;TZID=Europe/Prague;VALUE=DATE:20260415
END:VEVENT
BEGIN:VEVENT
UID:47905-1775048297-1776252649@botanicus.cz
DTSTAMP:20260401T125817Z
SUMMARY:Juggler Vojta Vrtek with workshop | Book reading in the gardens wit
 h Bára Štěpánová
DESCRIPTION:When you combine juggling and acrobatic skill with a touch of m
 usicianship and a whole lot of heart\, you’re bound to get an intriguing
  performer. In this case\, the result is a comedian\, clown\, and juggler 
 – your favourite Vojta Vrtek.\nThe juggling workshop will be open all da
 y on the garden grounds.\nAnd as an extra treat\, you can join a reading w
 ith Bára Štěpánová in the White Garden.\nBeggining of the performance
 : 11:00 a.m. and 3:00 p.m.\nBook reading in the gardens: 1:00 p.m. \nProg
 ramme subject to change. \n    
IMAGE;VALUE=URI:
DTSTART;TZID=Europe/Prague:20260706T000000
DTEND;TZID=Europe/Prague:20260706T000000
LAST-MODIFIED;TZID=Europe/Prague;VALUE=DATE:20260415
END:VEVENT
BEGIN:VEVENT
UID:47906-1775048452-1776252693@botanicus.cz
DTSTAMP:20260401T130052Z
SUMMARY:Archery tournament
DESCRIPTION:All day long\, you can try your hand at various types of bows a
 nd traditional target shooting on the garden grounds\, guided by the exper
 ienced archer Dalibor of Kozojedy. Learn fascinating insights about this n
 early forgotten craft\, or simply enjoy the fun of taking a shot yourself.
 \nBeggining of the tournament: 11:00 a.m. and 2:00 p.m.\nProgramme subject
  to change.\n   
IMAGE;VALUE=URI:
DTSTART;TZID=Europe/Prague:20260711T000000
DTEND;TZID=Europe/Prague:20260711T000000
LAST-MODIFIED;TZID=Europe/Prague;VALUE=DATE:20260415
END:VEVENT
BEGIN:VEVENT
UID:47909-1775111765-1776252754@botanicus.cz
DTSTAMP:20260402T063605Z
SUMMARY:Theatre ''Bářino toulavé divadlo'' I Book reading in the gardens
  with Bára Štěpánová
DESCRIPTION:Today\, Bára’s Wandering Theatre brings us the fairy tale Va
 lerián the Little Elf. A poetic yet exciting story in which children help
  move the plot forward through their own participation. Don’t miss the m
 orning and afternoon performances.\nBeggining of the performance: 11:00 a.
 m. and 2:00 p.m.\nBook reading in the gardens: 1:00 p.m.\nProgramme subjec
 t to change. \n   
IMAGE;VALUE=URI:
DTSTART;TZID=Europe/Prague:20260718T000000
DTEND;TZID=Europe/Prague:20260718T000000
LAST-MODIFIED;TZID=Europe/Prague;VALUE=DATE:20260415
END:VEVENT
BEGIN:VEVENT
UID:47910-1775112056-1776252795@botanicus.cz
DTSTAMP:20260402T064056Z
SUMMARY:Theatre ''Teátr Pavla Šmída''
DESCRIPTION:The performance show Teátr\, starring Pavel Šmíd\, will perf
 orm The Fairy Tale from the Alarm Clock\, a story about two brothers who s
 et out on a quest to find Time itself. Don’t miss this humorous show fil
 led with songs and playful moments.\nBeggining of the performance: 11:00 a
 .m. and 2:00 p.m.\nProgramme subject to change. \n   
IMAGE;VALUE=URI:
DTSTART;TZID=Europe/Prague:20260725T000000
DTEND;TZID=Europe/Prague:20260725T000000
LAST-MODIFIED;TZID=Europe/Prague;VALUE=DATE:20260415
END:VEVENT
BEGIN:VEVENT
UID:47911-1775112196-1776252838@botanicus.cz
DTSTAMP:20260402T064316Z
SUMMARY:Theatre ''CziDivadlo Praha''
DESCRIPTION:A romantic fairy tale about a princess\, Luciáš\, and poppy
 ‑seed buns. Will the forces of the underworld triumph\, or will love win
  in the end? A cheerful story filled with songs\, gentle humour\, and a ca
 ptivating plot.\nBeggining of the performance: 11:00 a.m. and 2:00 p.m.\nP
 rogramme subject to change. \n   
IMAGE;VALUE=URI:
DTSTART;TZID=Europe/Prague:20260801T000000
DTEND;TZID=Europe/Prague:20260801T000000
LAST-MODIFIED;TZID=Europe/Prague;VALUE=DATE:20260415
END:VEVENT
BEGIN:VEVENT
UID:47912-1775112272-1776252873@botanicus.cz
DTSTAMP:20260402T064432Z
SUMMARY:Music ''Péro za kloboukem''
DESCRIPTION:A truly authentic ensemble that performs folk and folk‑inspir
 ed songs\, classical melodies\, and even pieces of their own – all with 
 remarkable energy and charm. That’s Péro za kloboukem (Feather in the H
 at)\, the orchestra you can see performing here at our theatre.\nBeggining
  of the performance: 11:00 a.m. and 3:00 p.m.\nProgramme subject to change
 . \n   
IMAGE;VALUE=URI:
DTSTART;TZID=Europe/Prague:20260808T000000
DTEND;TZID=Europe/Prague:20260808T000000
LAST-MODIFIED;TZID=Europe/Prague;VALUE=DATE:20260415
END:VEVENT
BEGIN:VEVENT
UID:47913-1775112390-1776252915@botanicus.cz
DTSTAMP:20260402T064630Z
SUMMARY:Theatre ''Divadlo nejen pro děti''
DESCRIPTION:A playful show full of catchy songs that can get the whole audi
 ence singing and moving. Come and become part of the fairy tale Kašpárek
  (Punch) and the Witch\, performed by Eva Hrušková and Zdeněk Rohlíče
 k.\nBeggining of the performance: 11:00 a.m. and 2:00 p.m.\nProgramme subj
 ect to change. \n   
IMAGE;VALUE=URI:
DTSTART;TZID=Europe/Prague:20260815T000000
DTEND;TZID=Europe/Prague:20260815T000000
LAST-MODIFIED;TZID=Europe/Prague;VALUE=DATE:20260415
END:VEVENT
BEGIN:VEVENT
UID:47914-1775112516-1776253017@botanicus.cz
DTSTAMP:20260402T064836Z
SUMMARY:Children's day I Theatre ''Teátr Pavla Šmída''
DESCRIPTION:Come and enjoy our Children’s Day celebration\, where you can
  look forward to a performance by the performance group Teátr\, starring 
 Pavel Šmíd\, presenting The Windy Fairy Tale.\nThroughout the day\, chil
 dren can also explore a fairy‑tale trail and take part in a competition 
 held in our gardens.\nBeggining of the performance: 11:00 a.m. and 2:00 p.
 m.\nProgramme subject to change. \n   
IMAGE;VALUE=URI:
DTSTART;TZID=Europe/Prague:20260822T000000
DTEND;TZID=Europe/Prague:20260822T000000
LAST-MODIFIED;TZID=Europe/Prague;VALUE=DATE:20260415
END:VEVENT
BEGIN:VEVENT
UID:47915-1775112635-1776253082@botanicus.cz
DTSTAMP:20260402T065035Z
SUMMARY:Saturday full of plum goodies | Theatre ''Divadlo Kampa''
DESCRIPTION:Ronja\, the Robber’s Daughter brings to life the dramatizatio
 n of a well‑known fairy tale\, a story of the deep friendship between Ro
 nja and Birk. It’s often described as a “Romeo and Juliet for children
 .”\nBeggining of the performance: 2:00 p.m.\nAt the Craft Centre\, we’
 re also preparing a Saturday full of plum delicacies. Throughout the day\,
  you can enjoy a variety of dishes made with plums.\nProgramme subject to 
 change. \n  
IMAGE;VALUE=URI:
DTSTART;TZID=Europe/Prague:20260829T000000
DTEND;TZID=Europe/Prague:20260829T000000
LAST-MODIFIED;TZID=Europe/Prague;VALUE=DATE:20260415
END:VEVENT
BEGIN:VEVENT
UID:47916-1775112803-1776253147@botanicus.cz
DTSTAMP:20260402T065323Z
SUMMARY:Clown Bailo
DESCRIPTION:On the first Saturday of September\, Clown Bailo arrives with a
  show where the laws of physics simply don’t apply\, the impossible beco
 mes possible\, and the unseen suddenly appears before your eyes. Experienc
 e a clown performance full of unbelievable moments that will pull you stra
 ight into the fantastic world of clown artistry.\nBeggining of the perform
 ance: 1:00 p.m. and 3:00 p.m.\nProgramme subject to change. \n  
IMAGE;VALUE=URI:
DTSTART;TZID=Europe/Prague:20260905T000000
DTEND;TZID=Europe/Prague:20260905T000000
LAST-MODIFIED;TZID=Europe/Prague;VALUE=DATE:20260415
END:VEVENT
BEGIN:VEVENT
UID:47919-1775126162-1776253168@botanicus.cz
DTSTAMP:20260402T103602Z
SUMMARY:Closed to the public
DESCRIPTION:Dear visitors\,\nplease note that on 12 September 2026\, the Cr
 aft Centre and Herb Gardens will be closed to the public. Thank you for yo
 ur understanding.
IMAGE;VALUE=URI:
DTSTART;TZID=Europe/Prague:20260912T000000
DTEND;TZID=Europe/Prague:20260912T000000
LAST-MODIFIED;TZID=Europe/Prague;VALUE=DATE:20260415
END:VEVENT
BEGIN:VEVENT
UID:47920-1775126496-1776253228@botanicus.cz
DTSTAMP:20260402T104136Z
SUMMARY:Ambrosia dance group I Sea buckthorn meet and learn
DESCRIPTION:This Saturday\, the dance group Ambrosia will visit us. Their r
 epertoire is built on theatrically styled court and village dances from th
 e Gothic\, Renaissance\, and early to high Baroque periods.\nBeggining of 
 the performance: 11:00 a.m. \, 1:00 p.m. and 3:00 p.m. \nAt 14:00\, you c
 an also attend a lecture on sea buckthorn by Ing. Čestmír Vorlíček\, h
 eld in our theatre. Throughout the day\, we’ll be offering dishes made w
 ith sea buckthorn\, and you’ll have the chance to taste\, or even purcha
 se\, our own sea‑buckthorn juice.\nProgramme subject to change. \n 
IMAGE;VALUE=URI:
DTSTART;TZID=Europe/Prague:20260919T000000
DTEND;TZID=Europe/Prague:20260919T000000
LAST-MODIFIED;TZID=Europe/Prague;VALUE=DATE:20260415
END:VEVENT
BEGIN:VEVENT
UID:47921-1775127100-1776253262@botanicus.cz
DTSTAMP:20260402T105140Z
SUMMARY:Theatre ''Já to jsem''
DESCRIPTION:On the last Saturday of September\, the theatre company “Já 
 to jsem” (It Is Me Theatre Group will visit us with their fairy tale Eli
 ška’s Stories – a tale of a princess\, a prince\, little elves\, a dr
 agon\, and fears that turn out to be unfounded.\nBeggining of the performa
 nce: 11:00 a.m. and 2:00 p.m.\nProgramme subject to change. \n   
IMAGE;VALUE=URI:
DTSTART;TZID=Europe/Prague:20260926T000000
DTEND;TZID=Europe/Prague:20260926T000000
LAST-MODIFIED;TZID=Europe/Prague;VALUE=DATE:20260415
END:VEVENT
BEGIN:VEVENT
UID:47922-1775128421-1776253314@botanicus.cz
DTSTAMP:20260402T111341Z
SUMMARY:Juggler Vojta Vrtek with workshop | Tea tasting
DESCRIPTION:When you combine juggling and acrobatic skill with a touch of m
 usician and a whole lot of heart\, you get a truly remarkable performer. I
 n this case\, the result is a comedian\, clown\, and juggler – your favo
 urite Vojta Vrtek.\nBeggining of the performance: 11:00 a.m. and 3:00 p.m.
 \nThroughout the day\, you can also visit the juggling workshop on the gra
 ssy grounds.\n\nAnd on the bridge leading to the Monastery Garden\, you ca
 n also enjoy guided tea talks\, tastings\, and the opportunity to buy our 
 teas.\nProgramme subject to change. \n   
IMAGE;VALUE=URI:
DTSTART;TZID=Europe/Prague:20260928T000000
DTEND;TZID=Europe/Prague:20260928T000000
LAST-MODIFIED;TZID=Europe/Prague;VALUE=DATE:20260415
END:VEVENT
BEGIN:VEVENT
UID:46262-1750949070-1775656235@botanicus.cz
DTSTAMP:20250626T144430Z
SUMMARY:Halloween
DESCRIPTION:28th – 31st October 2026\nAlso this year\, in addition to tra
 ditional crafts such as pumpkin carving and decoration making\, visitors c
 an look forward to lantern making.
IMAGE;VALUE=URI:
DTSTART;TZID=Europe/Prague:20261028T000000
DTEND;TZID=Europe/Prague:20261031T235959
LAST-MODIFIED;TZID=Europe/Prague;VALUE=DATE:20260408
END:VEVENT
END:VCALENDAR